BEGIN:VCALENDAR
VERSION:2.0
PRODID:-//Zenplatz//Events//EN
CALSCALE:GREGORIAN
METHOD:PUBLISH
X-WR-CALNAME:Zenplatz Barcelona
X-WR-TIMEZONE:Europe/Madrid

BEGIN:VEVENT
UID:16531479-2b38-4123-8e08-be15268fba5f@zenplatz.com
DTSTAMP:20260419T121140Z
DTSTART;TZID=Europe/Madrid:20260428T183000
DTEND;TZID=Europe/Madrid:20260428T193000
SUMMARY:Breathwork Session
DESCRIPTION:A breathwork session designed to help participants reconnect 
 with their inner medicine.\n\nhttps://zenplatz.com/breathwork-session-165
 314
LOCATION:Coworkings WOJO
URL:https://zenplatz.com/breathwork-session-165314
CATEGORIES:Breathwork
END:VEVENT

BEGIN:VEVENT
UID:7de738ce-61b0-4d46-a5f1-4973e719cb01@zenplatz.com
DTSTAMP:20260419T121140Z
DTSTART;TZID=Europe/Madrid:20260430T000000
DTEND;TZID=Europe/Madrid:20260430T010000
SUMMARY:Full Moon Yoga
DESCRIPTION:A special yoga practice designed to release and open up durin
 g the full moon.\n\nPrice: 25€\n\nhttps://www.yogabytheseabarcelona.com/b
 ook-online\n\nhttps://zenplatz.com/full-moon-yoga-7de738
URL:https://zenplatz.com/full-moon-yoga-7de738
CATEGORIES:Yoga
END:VEVENT

END:VCALENDAR