BEGIN:VCALENDAR
VERSION:2.0
PRODID:-//Zenplatz//Events//EN
CALSCALE:GREGORIAN
METHOD:PUBLISH
X-WR-CALNAME:Zenplatz Berlin
X-WR-TIMEZONE:Europe/Berlin

BEGIN:VEVENT
UID:a277a8c0-6bbf-4a57-a378-8c5016a4eff5@zenplatz.com
DTSTAMP:20260419T122725Z
DTSTART;TZID=Europe/Berlin:20260419T160000
DTEND;TZID=Europe/Berlin:20260419T173000
SUMMARY:Meditation for Beginners
DESCRIPTION:A relaxed workshop led by Gunjan for beginners to practice me
 ditation and discuss their experiences.\n\nFacilitator: Gunjan\n\nhttp://
 www.mutedspace.com/event-details/meditation-for-absolute-beginer\n\nhttps
 ://zenplatz.com/meditation-for-beginners-a277a8
URL:https://zenplatz.com/meditation-for-beginners-a277a8
CATEGORIES:Meditation
END:VEVENT

BEGIN:VEVENT
UID:5cf9e986-7d2b-4ced-a658-d1e9be3ae534@zenplatz.com
DTSTAMP:20260419T122725Z
DTSTART;TZID=Europe/Berlin:20260420T070000
DTEND;TZID=Europe/Berlin:20260420T080000
SUMMARY:Bildungsurlaub: Raum für ganzheitliches Lernen\, Erleben\, Entfal
 ten
DESCRIPTION:A holistic learning event focusing on nutrition\, movement\, 
 and mindset at Initiative der heilenden Künste in Berlin.\n\nhttps://luma
 ya.co/l/wb/k_9dg\n\nhttps://zenplatz.com/bildungsurlaub-raum-fur-ganzheit
 liches-lernen-erleben-entfal-5cf9e9
LOCATION:Initiative der heilenden Künste
URL:https://zenplatz.com/bildungsurlaub-raum-fur-ganzheitliches-lernen-er
 leben-entfal-5cf9e9
CATEGORIES:Workshop
END:VEVENT

BEGIN:VEVENT
UID:07f0e180-ea6e-4dd0-8566-cf6217805b4b@zenplatz.com
DTSTAMP:20260419T122725Z
DTSTART;TZID=Europe/Berlin:20260420T080000
DTEND;TZID=Europe/Berlin:20260420T090000
SUMMARY:Meditation & Journaling for Self-Discovery
DESCRIPTION:A session focused on meditation and journaling for self-disco
 very in Berlin-Pankow.\n\nhttps://lumaya.co/l/wb/zw7fe\n\nhttps://zenplat
 z.com/meditation-journaling-for-self-discovery-07f0e1
URL:https://zenplatz.com/meditation-journaling-for-self-discovery-07f0e1
CATEGORIES:Meditation
END:VEVENT

BEGIN:VEVENT
UID:4c2c2cc1-4ac6-4bbd-877d-298ce8f4b44b@zenplatz.com
DTSTAMP:20260419T122725Z
DTSTART;TZID=Europe/Berlin:20260420T083000
DTEND;TZID=Europe/Berlin:20260420T093000
SUMMARY:Hatha Yoga
DESCRIPTION:A Hatha Yoga session at Seminarhaus Atha\, focusing on mindfu
 l movement.\n\nhttps://lumaya.co/l/ws/kyige\n\nhttps://zenplatz.com/hatha
 -yoga-4c2c2c
LOCATION:Seminarhaus Atha
URL:https://zenplatz.com/hatha-yoga-4c2c2c
CATEGORIES:Yoga
END:VEVENT

BEGIN:VEVENT
UID:77761af5-a0c0-40d7-b494-4c0ed0f65cb5@zenplatz.com
DTSTAMP:20260419T122725Z
DTSTART;TZID=Europe/Berlin:20260420T160000
DTEND;TZID=Europe/Berlin:20260420T170000
SUMMARY:YOGA X BREATHWORK
DESCRIPTION:A yoga and breathwork session in Berlin.\n\nhttps://lumaya.co
 /l/wb/mws5r\n\nhttps://zenplatz.com/yoga-x-breathwork-77761a
URL:https://zenplatz.com/yoga-x-breathwork-77761a
CATEGORIES:Breathwork
END:VEVENT

BEGIN:VEVENT
UID:19032d61-4c02-45a6-b96b-82b8f44afcb3@zenplatz.com
DTSTAMP:20260419T122725Z
DTSTART;TZID=Europe/Berlin:20260420T180000
DTEND;TZID=Europe/Berlin:20260420T190000
SUMMARY:High Heels Beginner/Intermediate Class
DESCRIPTION:A high heels dance class for beginners and intermediate dance
 rs led by Vika at Frankfurter Allee 149.\n\nFacilitator: Vika\n\nPrice: T
 rial lesson 10 euros\, Single lesson 15 euros\, 4 lessons for 50 euros\, 
 8 lessons for 90 euros\, 12 lessons for 130 euros\n\nhttps://zenplatz.com
 /high-heels-beginnerintermediate-class-19032d
LOCATION:Frankfurter Allee
URL:https://zenplatz.com/high-heels-beginnerintermediate-class-19032d
CATEGORIES:Dance
END:VEVENT

BEGIN:VEVENT
UID:1b339f69-3f77-4681-b02c-dbc44d8f5c9e@zenplatz.com
DTSTAMP:20260419T122725Z
DTSTART;TZID=Europe/Berlin:20260420T180000
DTEND;TZID=Europe/Berlin:20260420T190000
SUMMARY:Aerialyoga
DESCRIPTION:An Aerial Yoga session at Seminarhaus Atha.\n\nhttps://lumaya
 .co/l/ws/ahrww\n\nhttps://zenplatz.com/aerialyoga-1b339f
LOCATION:Seminarhaus Atha
URL:https://zenplatz.com/aerialyoga-1b339f
CATEGORIES:Yoga
END:VEVENT

BEGIN:VEVENT
UID:58a7e6d0-c3a1-41e8-bbee-7acb7a4084c4@zenplatz.com
DTSTAMP:20260419T122725Z
DTSTART;TZID=Europe/Berlin:20260420T180000
DTEND;TZID=Europe/Berlin:20260420T190000
SUMMARY:Meditation auf den 16. Karmapa
DESCRIPTION:A meditation session dedicated to the 16th Karmapa at the Bud
 dhist Center in Berlin-Pankow.\n\nhttps://lumaya.co/l/wb/leybk\n\nhttps:/
 /zenplatz.com/meditation-auf-den-16-karmapa-58a7e6
LOCATION:Buddhistisches Zentrum Berlin
URL:https://zenplatz.com/meditation-auf-den-16-karmapa-58a7e6
CATEGORIES:Meditation
END:VEVENT

BEGIN:VEVENT
UID:99a7ca8d-518f-4564-88d1-8db902d3107b@zenplatz.com
DTSTAMP:20260419T122725Z
DTSTART;TZID=Europe/Berlin:20260421T090000
DTEND;TZID=Europe/Berlin:20260421T100000
SUMMARY:Pregnancy Yoga
DESCRIPTION:A pregnancy yoga session at Hebammen Praxis Vivre in Berlin.\
 n\nhttps://lumaya.co/l/wb/5w8xo\n\nhttps://zenplatz.com/pregnancy-yoga-99
 a7ca
LOCATION:Hebammen Praxis Vivre
URL:https://zenplatz.com/pregnancy-yoga-99a7ca
CATEGORIES:Yoga
END:VEVENT

BEGIN:VEVENT
UID:7707ddf0-318f-4b0d-aef7-6d480ede14a1@zenplatz.com
DTSTAMP:20260419T122725Z
DTSTART;TZID=Europe/Berlin:20260421T103000
DTEND;TZID=Europe/Berlin:20260421T113000
SUMMARY:Mittagsmeditation
DESCRIPTION:A midday meditation session in Berlin.\n\nhttps://lumaya.co/l
 /wb/xzvys\n\nhttps://zenplatz.com/mittagsmeditation-7707dd
URL:https://zenplatz.com/mittagsmeditation-7707dd
CATEGORIES:Meditation
END:VEVENT

BEGIN:VEVENT
UID:ea9fd711-eff9-4fbb-bb1f-108b6e4672d9@zenplatz.com
DTSTAMP:20260419T122725Z
DTSTART;TZID=Europe/Berlin:20260421T140000
DTEND;TZID=Europe/Berlin:20260421T150000
SUMMARY:BioDynamic Breathwork & Trauma Release
DESCRIPTION:A session focused on breathwork and trauma release in Berlin.
 \n\nhttps://lumaya.co/l/wb/znkfo\n\nhttps://zenplatz.com/biodynamic-breat
 hwork-trauma-release-ea9fd7
URL:https://zenplatz.com/biodynamic-breathwork-trauma-release-ea9fd7
CATEGORIES:Breathwork
END:VEVENT

BEGIN:VEVENT
UID:88fa4201-021f-47f8-8c36-4e8028ac4f91@zenplatz.com
DTSTAMP:20260419T122725Z
DTSTART;TZID=Europe/Berlin:20260421T170000
DTEND;TZID=Europe/Berlin:20260421T180000
SUMMARY:Kadampa Meditationszentrum Berlin
DESCRIPTION:A meditation session at Kadampa Meditationszentrum in Berlin.
 \n\nhttps://lumaya.co/l/wb/iogyv\n\nhttps://zenplatz.com/kadampa-meditati
 onszentrum-berlin-88fa42
LOCATION:Kadampa Meditationszentrum Berlin
URL:https://zenplatz.com/kadampa-meditationszentrum-berlin-88fa42
CATEGORIES:Meditation
END:VEVENT

BEGIN:VEVENT
UID:b869efdd-5db5-4930-b47a-ba659612bb07@zenplatz.com
DTSTAMP:20260419T122725Z
DTSTART;TZID=Europe/Berlin:20260421T173000
DTEND;TZID=Europe/Berlin:20260421T183000
SUMMARY:Yin Yoga & Meditation
DESCRIPTION:A yin yoga and meditation session in Berlin.\n\nhttps://lumay
 a.co/l/wb/ig73u\n\nhttps://zenplatz.com/yin-yoga-meditation-b869ef
URL:https://zenplatz.com/yin-yoga-meditation-b869ef
CATEGORIES:Yoga
END:VEVENT

BEGIN:VEVENT
UID:f1046b85-07d0-42b6-a460-c37bb5f259be@zenplatz.com
DTSTAMP:20260419T122725Z
DTSTART;TZID=Europe/Berlin:20260421T183000
DTEND;TZID=Europe/Berlin:20260421T193000
SUMMARY:Yin Yoga im Studio - Alle Level
DESCRIPTION:A yin yoga session suitable for all levels in Berlin.\n\nhttp
 s://lumaya.co/l/wb/281a2\n\nhttps://zenplatz.com/yin-yoga-im-studio-alle-
 level-f1046b
URL:https://zenplatz.com/yin-yoga-im-studio-alle-level-f1046b
CATEGORIES:Yoga
END:VEVENT

BEGIN:VEVENT
UID:f96ba082-4d08-407f-8b46-3d217f31c9f9@zenplatz.com
DTSTAMP:20260419T122725Z
DTSTART;TZID=Europe/Berlin:20260421T190000
DTEND;TZID=Europe/Berlin:20260421T200000
SUMMARY:Dinner Canceling – Frauenkreis & Teestunde
DESCRIPTION:A women's circle and tea time event in Berlin.\n\nhttps://lum
 aya.co/l/wb/87ern\n\nhttps://zenplatz.com/dinner-canceling-frauenkreis-te
 estunde-f96ba0
URL:https://zenplatz.com/dinner-canceling-frauenkreis-teestunde-f96ba0
CATEGORIES:Community
END:VEVENT

BEGIN:VEVENT
UID:b159d581-d5de-4bd6-9520-2e6ece382c62@zenplatz.com
DTSTAMP:20260419T122725Z
DTSTART;TZID=Europe/Berlin:20260421T202000
DTEND;TZID=Europe/Berlin:20260421T212000
SUMMARY:Yoga-Meditation im Schillerkiez
DESCRIPTION:A yoga and meditation session in Schillerkiez\, Berlin.\n\nht
 tps://lumaya.co/l/wb/yx5fw\n\nhttps://zenplatz.com/yoga-meditation-im-sch
 illerkiez-b159d5
LOCATION:raum 5- Praxis für Körperarbeit
URL:https://zenplatz.com/yoga-meditation-im-schillerkiez-b159d5
CATEGORIES:Yoga
END:VEVENT

BEGIN:VEVENT
UID:53add08a-ea65-4738-970b-89341fff605f@zenplatz.com
DTSTAMP:20260419T122725Z
DTSTART;TZID=Europe/Berlin:20260421T211500
DTEND;TZID=Europe/Berlin:20260421T221500
SUMMARY:Good Night Soundbath
DESCRIPTION:A sound bath session featuring gong and singing bowls in Berl
 in.\n\nhttps://lumaya.co/l/wb/z9h0z\n\nhttps://zenplatz.com/good-night-so
 undbath-53add0
URL:https://zenplatz.com/good-night-soundbath-53add0
CATEGORIES:Sound Healing
END:VEVENT

BEGIN:VEVENT
UID:d5b56260-dc8a-4140-8f02-854d4ba4d3d8@zenplatz.com
DTSTAMP:20260419T122725Z
DTSTART;TZID=Europe/Berlin:20260422T093000
DTEND;TZID=Europe/Berlin:20260422T103000
SUMMARY:Rückbildung / Postnatal Yoga
DESCRIPTION:A postnatal yoga session available both in-person and online 
 at Hebammen Praxis Vivre.\n\nhttps://lumaya.co/l/wb/m9ndh\n\nhttps://zenp
 latz.com/ruckbildung-postnatal-yoga-d5b562
LOCATION:Hebammen Praxis Vivre
URL:https://zenplatz.com/ruckbildung-postnatal-yoga-d5b562
CATEGORIES:Yoga
END:VEVENT

BEGIN:VEVENT
UID:f3446efe-cc93-4ad0-9de8-f1ced9b18f51@zenplatz.com
DTSTAMP:20260419T122725Z
DTSTART;TZID=Europe/Berlin:20260422T111000
DTEND;TZID=Europe/Berlin:20260422T121000
SUMMARY:Tantrische Paar- und Sexualtherapie
DESCRIPTION:A live and online session focused on tantric couple and sexua
 l therapy.\n\nhttps://lumaya.co/l/wb/619sw\n\nhttps://zenplatz.com/tantri
 sche-paar-und-sexualtherapie-f3446e
URL:https://zenplatz.com/tantrische-paar-und-sexualtherapie-f3446e
CATEGORIES:Tantra
END:VEVENT

BEGIN:VEVENT
UID:77d82596-a9d7-4a74-b4e8-71c1b4b29c78@zenplatz.com
DTSTAMP:20260419T122725Z
DTSTART;TZID=Europe/Berlin:20260422T143000
DTEND;TZID=Europe/Berlin:20260422T153000
SUMMARY:Familien-Yoga
DESCRIPTION:A family yoga session taking place in Treptow-Köpenick.\n\nht
 tps://lumaya.co/l/wb/mnyf7\n\nhttps://zenplatz.com/familien-yoga-77d825
URL:https://zenplatz.com/familien-yoga-77d825
CATEGORIES:Yoga
END:VEVENT

BEGIN:VEVENT
UID:62484bd4-d6da-4001-873c-369e144dd7d1@zenplatz.com
DTSTAMP:20260419T122725Z
DTSTART;TZID=Europe/Berlin:20260422T153000
DTEND;TZID=Europe/Berlin:20260422T163000
SUMMARY:Schwangeren-Yoga
DESCRIPTION:A yoga session for pregnant women in Treptow-Köpenick.\n\nhtt
 ps://lumaya.co/l/wb/5ofnk\n\nhttps://zenplatz.com/schwangeren-yoga-62484b
URL:https://zenplatz.com/schwangeren-yoga-62484b
CATEGORIES:Yoga
END:VEVENT

BEGIN:VEVENT
UID:3652e52f-f208-4ca7-b045-66eae62370a5@zenplatz.com
DTSTAMP:20260419T122725Z
DTSTART;TZID=Europe/Berlin:20260422T170000
DTEND;TZID=Europe/Berlin:20260422T180000
SUMMARY:Frauen-Yoga
DESCRIPTION:A women's yoga session in Treptow-Köpenick.\n\nhttps://lumaya
 .co/l/wb/pqe2j\n\nhttps://zenplatz.com/frauen-yoga-3652e5
URL:https://zenplatz.com/frauen-yoga-3652e5
CATEGORIES:Yoga
END:VEVENT

BEGIN:VEVENT
UID:d08f8a1e-7f24-4a6e-9654-d052dd23fc2e@zenplatz.com
DTSTAMP:20260419T122725Z
DTSTART;TZID=Europe/Berlin:20260422T170000
DTEND;TZID=Europe/Berlin:20260422T180000
SUMMARY:Informationsveranstaltung - Einführungsvortrag Was ist Diamantweg
  Buddhismus?
DESCRIPTION:An introductory talk on Diamond Way Buddhism in Pankow.\n\nht
 tps://lumaya.co/l/wb/suzth\n\nhttps://zenplatz.com/informationsveranstalt
 ung-einfuhrungsvortrag-was-ist-diamant-d08f8a
URL:https://zenplatz.com/informationsveranstaltung-einfuhrungsvortrag-was
 -ist-diamant-d08f8a
CATEGORIES:Meditation
END:VEVENT

BEGIN:VEVENT
UID:3c565967-73c3-4a91-a9c7-25a2bae21641@zenplatz.com
DTSTAMP:20260419T122725Z
DTSTART;TZID=Europe/Berlin:20260422T184500
DTEND;TZID=Europe/Berlin:20260422T194500
SUMMARY:Moonlight sound & Reiki massage - Special Class
DESCRIPTION:A special class featuring moonlight sound and Reiki massage i
 n Friedrichshain-Kreuzberg.\n\nhttps://lumaya.co/l/wb/2prff\n\nhttps://ze
 nplatz.com/moonlight-sound-reiki-massage-special-class-3c5659
URL:https://zenplatz.com/moonlight-sound-reiki-massage-special-class-3c5659
CATEGORIES:Sound Healing
END:VEVENT

BEGIN:VEVENT
UID:4edca0b7-a735-45c3-ad02-f1b369032190@zenplatz.com
DTSTAMP:20260419T122725Z
DTSTART;TZID=Europe/Berlin:20260422T190000
DTEND;TZID=Europe/Berlin:20260422T200000
SUMMARY:Sound Bath | Embracing Emotions & Deep Relaxation
DESCRIPTION:A sound bath session focused on embracing emotions and deep r
 elaxation in Pankow.\n\nhttps://lumaya.co/l/wb/r4gl_\n\nhttps://zenplatz.
 com/sound-bath-embracing-emotions-deep-relaxation-4edca0
URL:https://zenplatz.com/sound-bath-embracing-emotions-deep-relaxation-4e
 dca0
CATEGORIES:Sound Healing
END:VEVENT

BEGIN:VEVENT
UID:426e4dd3-d021-49ba-bbff-7100a943754f@zenplatz.com
DTSTAMP:20260419T122725Z
DTSTART;TZID=Europe/Berlin:20260422T190000
DTEND;TZID=Europe/Berlin:20260422T200000
SUMMARY:Hypno Meditation (EN)
DESCRIPTION:An English-language hypno meditation session at Studio Floor.
 \n\nhttps://lumaya.co/l/wb/lbfz4\n\nhttps://zenplatz.com/hypno-meditation
 -en-426e4d
LOCATION:Studio Floor
URL:https://zenplatz.com/hypno-meditation-en-426e4d
CATEGORIES:Meditation
END:VEVENT

BEGIN:VEVENT
UID:fb7ecab6-82c4-4be7-9798-77b293f0344f@zenplatz.com
DTSTAMP:20260419T122725Z
DTSTART;TZID=Europe/Berlin:20260426T193000
DTEND;TZID=Europe/Berlin:20260426T210000
SUMMARY:SASPERELLA ~ La Sirène Live Concert
DESCRIPTION:SASPERELLA performs a solo concert at the Kapelle am Urban in
  Berlin.\n\nFacilitator: SASPERELLA\n\nPrice: €20 / €15 reduced\n\nhttps:
 //eventfrog.de/de/p/konzerte/world-ethno/sasperella-la-sirene-concert-743
 5294485888696092.html\n\nhttps://zenplatz.com/sasperella-la-sirene-live-c
 oncert-fb7eca
LOCATION:Kapelle am Urban
URL:https://zenplatz.com/sasperella-la-sirene-live-concert-fb7eca
CATEGORIES:Music
END:VEVENT

BEGIN:VEVENT
UID:8765bc2a-ac4d-45e1-8a27-f1b612d24716@zenplatz.com
DTSTAMP:20260419T122725Z
DTSTART;TZID=Europe/Berlin:20260509T200000
DTEND;TZID=Europe/Berlin:20260509T213000
SUMMARY:Special: Mantra & Kirtan w Shanti and Atma
DESCRIPTION:An evening of mantra and kirtan with Shanti and Atma at Green
  Yoga Kreuzberg.\n\nFacilitator: Ania (Shantimitra)\n\nPrice: €0.00 - €18
 .00\n\nhttps://www.eversports.de/org/activity/94650d64-f0b1-41cf-b827-223
 4bb5d00a3\n\nhttps://zenplatz.com/special-mantra-kirtan-w-shanti-and-atma
 -8765bc
LOCATION:Green Yoga Kreuzberg
URL:https://zenplatz.com/special-mantra-kirtan-w-shanti-and-atma-8765bc
CATEGORIES:Kirtan
END:VEVENT

BEGIN:VEVENT
UID:172aad4f-38e8-4f09-856e-28388665865e@zenplatz.com
DTSTAMP:20260419T122725Z
DTSTART;TZID=Europe/Berlin:20260509T201500
DTEND;TZID=Europe/Berlin:20260509T230000
SUMMARY:Libido
DESCRIPTION:A 5Rhythms dance session led by Oliver Euchner at an unspecif
 ied venue in Berlin.\n\nFacilitator: Oliver Euchner\n\nhttps://zenplatz.c
 om/libido-172aad
URL:https://zenplatz.com/libido-172aad
CATEGORIES:Dance
END:VEVENT

END:VCALENDAR