BEGIN:VCALENDAR
VERSION:2.0
PRODID:-//Zenplatz//Events//EN
CALSCALE:GREGORIAN
METHOD:PUBLISH
X-WR-CALNAME:Zenplatz Lisbon
X-WR-TIMEZONE:Europe/Lisbon

BEGIN:VEVENT
UID:e507c05c-168f-4392-806f-5d35b0311d7d@zenplatz.com
DTSTAMP:20260419T121122Z
DTSTART;TZID=Europe/Lisbon:20260419T150000
DTEND;TZID=Europe/Lisbon:20260419T210000
SUMMARY:Back to Body Dance Journey
DESCRIPTION:A transformative dance journey with Becky and Magupi at Awake
 nheartyoga\, featuring a sauna and salt water pool.\n\nFacilitator: Becky
 \n\nPrice: 20€ each if coming as a couple\, payable at the door\n\nhttps:
 //zenplatz.com/back-to-body-dance-journey-e507c0
LOCATION:Awakenheartyoga
URL:https://zenplatz.com/back-to-body-dance-journey-e507c0
CATEGORIES:Dance
END:VEVENT

BEGIN:VEVENT
UID:3106cb1d-556d-483c-a7b6-aff738462c6d@zenplatz.com
DTSTAMP:20260419T121122Z
DTSTART;TZID=Europe/Lisbon:20260419T180000
DTEND;TZID=Europe/Lisbon:20260419T210000
SUMMARY:Lifedrawing Session
DESCRIPTION:A lifedrawing session at Awakenheartyoga\, welcoming all part
 icipants to explore their creativity.\n\nhttps://www.instagram.com/reel/D
 XGF0OUAgqf/?igsh=MXBrOHpqdmNlbjV6dg==\n\nhttps://zenplatz.com/lifedrawing
 -session-3106cb
LOCATION:Awakenheartyoga
URL:https://zenplatz.com/lifedrawing-session-3106cb
CATEGORIES:Art
END:VEVENT

BEGIN:VEVENT
UID:9d6cb7dc-3583-41b0-8150-ee4e67befdac@zenplatz.com
DTSTAMP:20260419T121122Z
DTSTART;TZID=Europe/Lisbon:20260423T190000
DTEND;TZID=Europe/Lisbon:20260423T220000
SUMMARY:Chakana Ecstatic Dance
DESCRIPTION:An ecstatic dance session featuring DJ Lua Shakti at Barril d
 'Alva. The event includes a warm-up\, dance journey\, and relaxation\, cr
 eating a safe space for free-form movement and connection.\n\nFacilitator
 : DJ Lua Shakti\n\nPrice: €15 (includes cacao)\n\nhttps://on.soundcloud.c
 om/4eGzDTc1apuOA0wBcH\n\nhttps://zenplatz.com/chakana-ecstatic-dance-9d6c
 b7
LOCATION:Barril d'Alva
URL:https://zenplatz.com/chakana-ecstatic-dance-9d6cb7
CATEGORIES:Ecstatic Dance
END:VEVENT

BEGIN:VEVENT
UID:d1c810a9-cf0f-4221-8df6-851189976d5d@zenplatz.com
DTSTAMP:20260419T121122Z
DTSTART;TZID=Europe/Lisbon:20260425T180000
DTEND;TZID=Europe/Lisbon:20260425T210000
SUMMARY:MOVE IN TOUCH with Pedro Paz
DESCRIPTION:A dance session led by Pedro Paz at Rua Dona Estefânia 173\, 
 focusing on embodied practice through movement\, listening\, touch\, and 
 relation.\n\nFacilitator: Pedro Paz\n\nhttps://zenplatz.com/move-in-touch
 -with-pedro-paz-d1c810
LOCATION:Rua Dona Estefânia 173
URL:https://zenplatz.com/move-in-touch-with-pedro-paz-d1c810
CATEGORIES:Dance
END:VEVENT

BEGIN:VEVENT
UID:b0ede281-a1aa-47c5-9390-c2e96cb861d6@zenplatz.com
DTSTAMP:20260419T121122Z
DTSTART;TZID=Europe/Lisbon:20260501T000000
DTEND;TZID=Europe/Lisbon:20260501T010000
SUMMARY:Special Men's Ecstatic Dance
DESCRIPTION:A men's-only dance session led by DJ B-File (Bernardo Rodrigu
 es) aimed at awakening the Divine Masculine within through music and move
 ment.\n\nFacilitator: DJ B-File (Bernardo Rodrigues)\n\nhttps://soundclou
 d.com/b-file\n\nhttps://zenplatz.com/special-mens-ecstatic-dance-b0ede2
URL:https://zenplatz.com/special-mens-ecstatic-dance-b0ede2
CATEGORIES:Dance
END:VEVENT

BEGIN:VEVENT
UID:750ba938-b077-49d0-934b-5584a125cf18@zenplatz.com
DTSTAMP:20260419T121122Z
DTSTART;TZID=Europe/Lisbon:20260507T110000
DTEND;TZID=Europe/Lisbon:20260507T120000
SUMMARY:Free Introduction Session: Parenting as Inner Work
DESCRIPTION:A free introduction session exploring parenting as an inner w
 ork approach based on NVC and attachment theory.\n\nPrice: Free\n\nhttps:
 //www.heartcore-member.com/courseportugal\n\nhttps://zenplatz.com/free-in
 troduction-session-parenting-as-inner-work-750ba9
URL:https://zenplatz.com/free-introduction-session-parenting-as-inner-wor
 k-750ba9
CATEGORIES:Workshop
END:VEVENT

END:VCALENDAR