BEGIN:VCALENDAR
VERSION:2.0
PRODID:-//Zenplatz//Events//EN
CALSCALE:GREGORIAN
METHOD:PUBLISH
X-WR-CALNAME:Zenplatz Playa del Carmen
X-WR-TIMEZONE:America/Cancun

BEGIN:VEVENT
UID:5cf15ca6-de3e-440c-977f-8a12883a026e@zenplatz.com
DTSTAMP:20260419T121437Z
DTSTART;TZID=America/Cancun:20260419T110000
DTEND;TZID=America/Cancun:20260419T130000
SUMMARY:3er Festival de la Tierra
DESCRIPTION:A yoga and breathwork session led by Christian at Consciencia
  Viva\, part of the Earth Festival.\n\nFacilitator: Christian\n\nPrice: 3
 00 pesos\n\nhttps://zenplatz.com/3er-festival-de-la-tierra-5cf15c
LOCATION:Consciencia Viva
URL:https://zenplatz.com/3er-festival-de-la-tierra-5cf15c
CATEGORIES:Yoga
END:VEVENT

BEGIN:VEVENT
UID:06c64f63-0d91-49cb-bdf6-3e1dd3c10b00@zenplatz.com
DTSTAMP:20260419T121437Z
DTSTART;TZID=America/Cancun:20260419T150000
DTEND;TZID=America/Cancun:20260419T180000
SUMMARY:Deep Earth Listening: Attuning Your Perception
DESCRIPTION:A living ecopsychology practice designed to refine subtle per
 ception and reconnect with Nature as Teacher. Through silence\, presence\
 , and embodiment\, participants are guided into a deeper dialogue with th
 e living world.\n\nhttps://www.PDCYES.com\n\nhttps://zenplatz.com/deep-ea
 rth-listening-attuning-your-perception-06c64f
LOCATION:Pulmón Verde
URL:https://zenplatz.com/deep-earth-listening-attuning-your-perception-06
 c64f
CATEGORIES:Other
END:VEVENT

BEGIN:VEVENT
UID:7269d473-e1bc-4f87-a46e-12600a6f5331@zenplatz.com
DTSTAMP:20260419T121437Z
DTSTART;TZID=America/Cancun:20260419T150000
DTEND;TZID=America/Cancun:20260419T160000
SUMMARY:New Moon Yoga & Cacao Ceremony
DESCRIPTION:A Yoga and Cacao Ceremony under the Aries New Moon\, designed
  to move participants out of hesitation and into momentum. The event will
  take place in a beautiful outdoor nature space in Ejidal.\n\nFacilitator
 : Vero and Lucy\n\nPrice: $500 MXN adv\n\nhttps://zenplatz.com/new-moon-y
 oga-cacao-ceremony-7269d4
LOCATION:La Nave
URL:https://zenplatz.com/new-moon-yoga-cacao-ceremony-7269d4
CATEGORIES:Cacao Ceremony
END:VEVENT

BEGIN:VEVENT
UID:6b341e76-ab41-4901-a3d4-2c86ff73f244@zenplatz.com
DTSTAMP:20260419T121437Z
DTSTART;TZID=America/Cancun:20260419T170000
DTEND;TZID=America/Cancun:20260419T200000
SUMMARY:Jornada de Sanación
DESCRIPTION:A group session of family constellations focused on healing s
 elf-confidence issues\, led by Najbi.\n\nFacilitator: Najbi\n\nhttps://ze
 nplatz.com/jornada-de-sanacion-6b341e
LOCATION:Calle 3 Sur\, Col. Ejidal
URL:https://zenplatz.com/jornada-de-sanacion-6b341e
CATEGORIES:Constellation
END:VEVENT

BEGIN:VEVENT
UID:fe81de53-7c90-462b-9868-ca382d3cadb2@zenplatz.com
DTSTAMP:20260419T121437Z
DTSTART;TZID=America/Cancun:20260420T190000
DTEND;TZID=America/Cancun:20260420T200000
SUMMARY:Salsa and Bachata Dance Classes
DESCRIPTION:A series of dance classes for beginners and those looking to 
 improve their skills in salsa and bachata at HOM HOSTEL BOUTIQUE.\n\nPric
 e: 2 Clases $80\, 1 Clase $60\n\nhttps://zenplatz.com/salsa-and-bachata-d
 ance-classes-fe81de
LOCATION:HOM HOSTEL BOUTIQUE
URL:https://zenplatz.com/salsa-and-bachata-dance-classes-fe81de
CATEGORIES:Dance
END:VEVENT

BEGIN:VEVENT
UID:347dc010-c4ef-415e-8b47-6d4c436e6710@zenplatz.com
DTSTAMP:20260419T121437Z
DTSTART;TZID=America/Cancun:20260420T200000
DTEND;TZID=America/Cancun:20260421T000000
SUMMARY:Bachata Monday and Wednesday
DESCRIPTION:A Latin dance social featuring bachata\, kizomba\, salsa\, an
 d zouk at Maui. The event includes a class for all levels followed by a s
 ocial dance.\n\nFacilitator: Tati & Bachata Soul (Jesus)\n\nPrice: $100 →
  class + social\n\nhttps://zenplatz.com/bachata-monday-and-wednesday-347d
 c0
LOCATION:Maui
URL:https://zenplatz.com/bachata-monday-and-wednesday-347dc0
CATEGORIES:Dance
END:VEVENT

BEGIN:VEVENT
UID:e3d20c83-c5dd-45cf-a89b-293269d04044@zenplatz.com
DTSTAMP:20260419T121437Z
DTSTART;TZID=America/Cancun:20260421T150000
DTEND;TZID=America/Cancun:20260421T163000
SUMMARY:Flexibilidad y Conciencia Corporal con Melinda
DESCRIPTION:A weekly flexibility and body consciousness class led by Meli
 nda at La Bohème in Playa del Carmen.\n\nFacilitator: Melinda\n\nPrice: 2
 00 mxn\n\nhttps://luma.com/29lbgg5f\n\nhttps://zenplatz.com/flexibilidad-
 y-conciencia-corporal-con-melinda-e3d20c
LOCATION:La Bohème
URL:https://zenplatz.com/flexibilidad-y-conciencia-corporal-con-melinda-e
 3d20c
CATEGORIES:Workshop
END:VEVENT

BEGIN:VEVENT
UID:3c2c4a26-b46e-4045-8e9c-34ca85728a41@zenplatz.com
DTSTAMP:20260419T121437Z
DTSTART;TZID=America/Cancun:20260421T180000
DTEND;TZID=America/Cancun:20260421T210000
SUMMARY:Salsa & Bachata PDC Project
DESCRIPTION:Salsa and Bachata classes for all ages at Mexcalli Restaurant
 \, no partner needed.\n\nFacilitator: Let's Dance Mexico\n\nhttps://maps.
 app.goo.gl/3RGBYUq4DY1e2HdM6\n\nhttps://zenplatz.com/salsa-bachata-pdc-pr
 oject-3c2c4a
LOCATION:mexcalli restaurant
URL:https://zenplatz.com/salsa-bachata-pdc-project-3c2c4a
CATEGORIES:Dance
END:VEVENT

BEGIN:VEVENT
UID:500dfd83-37b1-4d8f-baab-93307503b935@zenplatz.com
DTSTAMP:20260419T121437Z
DTSTART;TZID=America/Cancun:20260421T230000
DTEND;TZID=America/Cancun:20260422T020000
SUMMARY:Power Dynamics Workshop
DESCRIPTION:An educational workshop exploring the art of power dynamics i
 n a safe and conscious way\, designed for couples to learn about dominanc
 e and submission\, trust\, and internal edges in relationships.\n\nPrice:
  $1\,000 MXN per couple\n\nhttps://zenplatz.com/power-dynamics-workshop-5
 00dfd
LOCATION:Centro Playa
URL:https://zenplatz.com/power-dynamics-workshop-500dfd
CATEGORIES:Workshop
END:VEVENT

BEGIN:VEVENT
UID:68833111-8844-4083-a581-673e702e948a@zenplatz.com
DTSTAMP:20260419T121437Z
DTSTART;TZID=America/Cancun:20260423T110000
DTEND;TZID=America/Cancun:20260423T130000
SUMMARY:Dance Alchemy: Beyond Styles
DESCRIPTION:A fusion dance session inviting dancers of all styles to expl
 ore movement and connection at Callejón del Arte.\n\nPrice: Free\n\nhttps
 ://zenplatz.com/dance-alchemy-beyond-styles-688331
LOCATION:Callejón del Arte
URL:https://zenplatz.com/dance-alchemy-beyond-styles-688331
CATEGORIES:Dance
END:VEVENT

BEGIN:VEVENT
UID:0d08e284-5dee-4228-97dd-5cf6389bd67c@zenplatz.com
DTSTAMP:20260419T121437Z
DTSTART;TZID=America/Cancun:20260424T110000
DTEND;TZID=America/Cancun:20260424T130000
SUMMARY:Breathwork Profundo
DESCRIPTION:A breathwork session at Casa AM·OR\, designed to help partici
 pants reconnect with themselves through conscious breathing.\n\nPrice: $6
 00 MXN\n\nhttps://zenplatz.com/breathwork-profundo-0d08e2
LOCATION:Casa AM·OR
URL:https://zenplatz.com/breathwork-profundo-0d08e2
CATEGORIES:Breathwork
END:VEVENT

BEGIN:VEVENT
UID:d12a1e21-059c-4f6c-822f-4917c4ba0bc3@zenplatz.com
DTSTAMP:20260419T121437Z
DTSTART;TZID=America/Cancun:20260426T110000
DTEND;TZID=America/Cancun:20260426T130000
SUMMARY:Breathwork Profundo
DESCRIPTION:A breathwork session at Casa AM·OR designed to help participa
 nts reconnect with themselves through conscious breathing.\n\nPrice: $600
  MXN\n\nhttps://zenplatz.com/breathwork-profundo-d12a1e
LOCATION:Casa AM·OR
URL:https://zenplatz.com/breathwork-profundo-d12a1e
CATEGORIES:Breathwork
END:VEVENT

BEGIN:VEVENT
UID:9ce5823d-51fc-4283-9fe7-67786d457fce@zenplatz.com
DTSTAMP:20260419T121437Z
DTSTART;TZID=America/Cancun:20260428T120000
DTEND;TZID=America/Cancun:20260428T133000
SUMMARY:Brazilian Zouk: Beginner Bootcamp (6-Week Series)
DESCRIPTION:A progressive Zouk program led by Deon at Escuela de Danza 'O
 n Stage' in Playa del Carmen. No partner or experience needed.\n\nFacilit
 ator: Deon\n\nPrice: Early Bird: $600\, Full Series: $750\, Drop-in: $150
 \n\nhttps://zenplatz.com/brazilian-zouk-beginner-bootcamp-6-week-series-9
 ce582
LOCATION:Escuela de Danza 'On Stage'
URL:https://zenplatz.com/brazilian-zouk-beginner-bootcamp-6-week-series-9
 ce582
CATEGORIES:Dance
END:VEVENT

END:VCALENDAR