BEGIN:VCALENDAR
VERSION:2.0
PRODID:-//Zenplatz//Events//EN
CALSCALE:GREGORIAN
METHOD:PUBLISH
X-WR-CALNAME:Zenplatz Rishikesh
X-WR-TIMEZONE:Asia/Kolkata

BEGIN:VEVENT
UID:03a5559d-8ef1-49ff-93df-11c425101e96@zenplatz.com
DTSTAMP:20260419T122726Z
DTSTART;TZID=Asia/Kolkata:20260420T060000
DTEND;TZID=Asia/Kolkata:20260420T070000
SUMMARY:200 Hour Yoga Teacher Training
DESCRIPTION:A comprehensive 200-hour yoga teacher training program in Ris
 hikesh\, India.\n\nhttps://lumaya.co/l/wr/msi61\n\nhttps://zenplatz.com/2
 00-hour-yoga-teacher-training-03a555
LOCATION:Aroha By Rishikesh
URL:https://zenplatz.com/200-hour-yoga-teacher-training-03a555
CATEGORIES:Yoga
END:VEVENT

BEGIN:VEVENT
UID:b5207361-b532-4a21-9293-1150a7a6bbd7@zenplatz.com
DTSTAMP:20260419T122726Z
DTSTART;TZID=Asia/Kolkata:20260420T073000
DTEND;TZID=Asia/Kolkata:20260420T083000
SUMMARY:Daily Drop-In Yoga Retreat Workshops
DESCRIPTION:A daily drop-in yoga retreat and workshops at SOH sound of Hi
 malayas stay and cafe.\n\nhttps://lumaya.co/l/wr/rcv5h\n\nhttps://zenplat
 z.com/daily-drop-in-yoga-retreat-workshops-b52073
LOCATION:SOH sound of Himalayas stay and cafe
URL:https://zenplatz.com/daily-drop-in-yoga-retreat-workshops-b52073
CATEGORIES:Yoga
END:VEVENT

BEGIN:VEVENT
UID:c0857b0a-03a9-4ea8-ad6d-b8e4b4cc5bb4@zenplatz.com
DTSTAMP:20260419T122726Z
DTSTART;TZID=Asia/Kolkata:20260420T083000
DTEND;TZID=Asia/Kolkata:20260420T093000
SUMMARY:Morning Yoga Classes
DESCRIPTION:Morning yoga classes at Divine Circle in Rishikesh.\n\nhttps:
 //lumaya.co/l/wr/cuwjr\n\nhttps://zenplatz.com/morning-yoga-classes-c0857
 b
LOCATION:Divine Circle
URL:https://zenplatz.com/morning-yoga-classes-c0857b
CATEGORIES:Yoga
END:VEVENT

BEGIN:VEVENT
UID:c845ba86-0d20-40d2-addf-b568b796a7ba@zenplatz.com
DTSTAMP:20260419T122726Z
DTSTART;TZID=Asia/Kolkata:20260420T090000
DTEND;TZID=Asia/Kolkata:20260420T100000
SUMMARY:50HR Himalayan Mystic Sound Healing Training
DESCRIPTION:A 50-hour Himalayan mystic sound healing training at the Hima
 layan Academy of Sound.\n\nhttps://lumaya.co/l/wr/9r98x\n\nhttps://zenpla
 tz.com/50hr-himalayan-mystic-sound-healing-training-c845ba
LOCATION:Himalayan Academy of Sound
URL:https://zenplatz.com/50hr-himalayan-mystic-sound-healing-training-c84
 5ba
CATEGORIES:Sound Healing
END:VEVENT

BEGIN:VEVENT
UID:22a57abf-7959-4614-801c-c5578074828c@zenplatz.com
DTSTAMP:20260419T122726Z
DTSTART;TZID=Asia/Kolkata:20260420T090000
DTEND;TZID=Asia/Kolkata:20260420T100000
SUMMARY:Learn Mantra Chanting\, Kirtan & Harmonium
DESCRIPTION:A session to learn mantra chanting\, kirtan\, and harmonium i
 n Tapovan\, Rishikesh.\n\nhttps://lumaya.co/l/wr/9c_v4\n\nhttps://zenplat
 z.com/learn-mantra-chanting-kirtan-harmonium-22a57a
LOCATION:Tapovan
URL:https://zenplatz.com/learn-mantra-chanting-kirtan-harmonium-22a57a
CATEGORIES:Kirtan
END:VEVENT

BEGIN:VEVENT
UID:5e5f3b7c-4e9f-4650-aaff-6705eec0bfd0@zenplatz.com
DTSTAMP:20260419T122726Z
DTSTART;TZID=Asia/Kolkata:20260420T090000
DTEND;TZID=Asia/Kolkata:20260420T100000
SUMMARY:Personal Yoga Session on Ganga Ghat
DESCRIPTION:A personal yoga session on Ganga Ghat in Rishikesh.\n\nhttps:
 //lumaya.co/l/wr/eifkb\n\nhttps://zenplatz.com/personal-yoga-session-on-g
 anga-ghat-5e5f3b
LOCATION:Laxman Jhula
URL:https://zenplatz.com/personal-yoga-session-on-ganga-ghat-5e5f3b
CATEGORIES:Yoga
END:VEVENT

BEGIN:VEVENT
UID:88ed44f1-c443-4af3-98f8-59f2c0630318@zenplatz.com
DTSTAMP:20260419T122726Z
DTSTART;TZID=Asia/Kolkata:20260420T113000
DTEND;TZID=Asia/Kolkata:20260420T123000
SUMMARY:Trauma-Informed Yoga
DESCRIPTION:A trauma-informed yoga session at Upper Tapovan\, Rishikesh\,
  open to all levels.\n\nhttps://lumaya.co/l/wr/gg03p\n\nhttps://zenplatz.
 com/trauma-informed-yoga-88ed44
LOCATION:Upper Tapovan
URL:https://zenplatz.com/trauma-informed-yoga-88ed44
CATEGORIES:Yoga
END:VEVENT

BEGIN:VEVENT
UID:9e2a8c3d-383f-46b6-a862-8205485b1a4f@zenplatz.com
DTSTAMP:20260419T122726Z
DTSTART;TZID=Asia/Kolkata:20260420T114500
DTEND;TZID=Asia/Kolkata:20260420T124500
SUMMARY:Body Opening Drop-in Class
DESCRIPTION:A body opening drop-in class at ECHOS in Rishikesh.\n\nhttps:
 //lumaya.co/l/wr/5luvt\n\nhttps://zenplatz.com/body-opening-drop-in-class
 -9e2a8c
LOCATION:ECHOS
URL:https://zenplatz.com/body-opening-drop-in-class-9e2a8c
CATEGORIES:Yoga
END:VEVENT

BEGIN:VEVENT
UID:ff628405-96f2-463d-ba2d-cc3fe4fe222f@zenplatz.com
DTSTAMP:20260419T122726Z
DTSTART;TZID=Asia/Kolkata:20260420T123000
DTEND;TZID=Asia/Kolkata:20260420T133000
SUMMARY:Arm Balance Classes
DESCRIPTION:Arm balance classes at ECHOS in Rishikesh.\n\nhttps://lumaya.
 co/l/wr/dt2ec\n\nhttps://zenplatz.com/arm-balance-classes-ff6284
LOCATION:ECHOS
URL:https://zenplatz.com/arm-balance-classes-ff6284
CATEGORIES:Yoga
END:VEVENT

BEGIN:VEVENT
UID:4d5fcbfc-2197-4b8c-a083-d8acbf9d7f42@zenplatz.com
DTSTAMP:20260419T122726Z
DTSTART;TZID=Asia/Kolkata:20260421T124500
DTEND;TZID=Asia/Kolkata:20260421T134500
SUMMARY:Sun Series Classes
DESCRIPTION:Sun Series yoga classes held at ECHOS.\n\nhttps://lumaya.co/l
 /wr/7hbum\n\nhttps://zenplatz.com/sun-series-classes-4d5fcb
LOCATION:ECHOS
URL:https://zenplatz.com/sun-series-classes-4d5fcb
CATEGORIES:Yoga
END:VEVENT

BEGIN:VEVENT
UID:fa02640e-a318-4922-99d0-a60ef461b6b9@zenplatz.com
DTSTAMP:20260419T122726Z
DTSTART;TZID=Asia/Kolkata:20260421T140000
DTEND;TZID=Asia/Kolkata:20260421T150000
SUMMARY:Hip Opening Classes
DESCRIPTION:Hip Opening yoga classes held at ECHOS.\n\nhttps://lumaya.co/
 l/wr/7gziz\n\nhttps://zenplatz.com/hip-opening-classes-fa0264
LOCATION:ECHOS
URL:https://zenplatz.com/hip-opening-classes-fa0264
CATEGORIES:Yoga
END:VEVENT

BEGIN:VEVENT
UID:e0e4f619-8706-405e-86f1-dabcce47536e@zenplatz.com
DTSTAMP:20260419T122726Z
DTSTART;TZID=Asia/Kolkata:20260421T173000
DTEND;TZID=Asia/Kolkata:20260421T183000
SUMMARY:Power Yoga Classes
DESCRIPTION:Power Yoga classes held at ECHOS.\n\nhttps://lumaya.co/l/wr/e
 wh_p\n\nhttps://zenplatz.com/power-yoga-classes-e0e4f6
LOCATION:ECHOS
URL:https://zenplatz.com/power-yoga-classes-e0e4f6
CATEGORIES:Yoga
END:VEVENT

BEGIN:VEVENT
UID:810fcf4b-b478-4a2d-a5d7-ccb7c3eeb69d@zenplatz.com
DTSTAMP:20260419T122726Z
DTSTART;TZID=Asia/Kolkata:20260422T113000
DTEND;TZID=Asia/Kolkata:20260422T123000
SUMMARY:Hip Opening Classes
DESCRIPTION:Hip opening classes led by Olo Yoga at ECHOS\, designed to en
 hance flexibility and relaxation.\n\nFacilitator: Olo Yoga\n\nhttps://lum
 aya.co/l/wr/_g5cp\n\nhttps://zenplatz.com/hip-opening-classes-810fcf
LOCATION:ECHOS
URL:https://zenplatz.com/hip-opening-classes-810fcf
CATEGORIES:Yoga
END:VEVENT

BEGIN:VEVENT
UID:e0d2504a-8822-41df-9b9b-5e255ceecb3d@zenplatz.com
DTSTAMP:20260419T122726Z
DTSTART;TZID=Asia/Kolkata:20260422T114500
DTEND;TZID=Asia/Kolkata:20260422T124500
SUMMARY:Yin Yoga Classes
DESCRIPTION:Yin Yoga classes led by Olo Yoga at ECHOS\, focusing on deep 
 stretching and relaxation.\n\nFacilitator: Olo Yoga\n\nhttps://lumaya.co/
 l/wr/57bsy\n\nhttps://zenplatz.com/yin-yoga-classes-e0d250
LOCATION:ECHOS
URL:https://zenplatz.com/yin-yoga-classes-e0d250
CATEGORIES:Yoga
END:VEVENT

BEGIN:VEVENT
UID:e9610cdd-f817-4666-8fa6-54a5988d28d5@zenplatz.com
DTSTAMP:20260419T122726Z
DTSTART;TZID=Asia/Kolkata:20260422T160000
DTEND;TZID=Asia/Kolkata:20260422T170000
SUMMARY:Witness YOGA Flow
DESCRIPTION:A yoga flow session held at Witness YOGA\, encouraging partic
 ipants to connect with their breath and movement.\n\nhttps://lumaya.co/l/
 wr/1ya41\n\nhttps://zenplatz.com/witness-yoga-flow-e9610c
LOCATION:Witness YOGA
URL:https://zenplatz.com/witness-yoga-flow-e9610c
CATEGORIES:Yoga
END:VEVENT

BEGIN:VEVENT
UID:ad817163-2753-4943-9d5b-cc1826238e48@zenplatz.com
DTSTAMP:20260419T122726Z
DTSTART;TZID=Asia/Kolkata:20260422T171500
DTEND;TZID=Asia/Kolkata:20260422T181500
SUMMARY:Marma Therapy 5 Days Course
DESCRIPTION:A five-day course on Marma therapy\, focusing on healing tech
 niques and practices\, held in Tapovan.\n\nhttps://lumaya.co/l/wr/6yd9g\n
 \nhttps://zenplatz.com/marma-therapy-5-days-course-ad8171
LOCATION:Tapovan
URL:https://zenplatz.com/marma-therapy-5-days-course-ad8171
CATEGORIES:Healing
END:VEVENT

END:VCALENDAR