BEGIN:VCALENDAR
VERSION:2.0
PRODID:-//Zenplatz//Events//EN
CALSCALE:GREGORIAN
METHOD:PUBLISH
X-WR-CALNAME:Zenplatz Stockholm
X-WR-TIMEZONE:Europe/Stockholm

BEGIN:VEVENT
UID:0445bc90-0b46-4453-9fe7-3c100a99cdfa@zenplatz.com
DTSTAMP:20260419T121018Z
DTSTART;TZID=Europe/Stockholm:20260423T180000
DTEND;TZID=Europe/Stockholm:20260423T200000
SUMMARY:Shiva Pooja and Bhagavad Gita Scripture Study
DESCRIPTION:A Shiva pooja followed by a scripture study session focusing 
 on Chapter 1\, Shloka 8 of the Bhagavad Gita\, discussing the qualities o
 f Guru and respect for others.\n\nhttps://zenplatz.com/shiva-pooja-and-bh
 agavad-gita-scripture-study-0445bc
URL:https://zenplatz.com/shiva-pooja-and-bhagavad-gita-scripture-study-04
 45bc
CATEGORIES:Ceremony
END:VEVENT

BEGIN:VEVENT
UID:65ed34fd-a162-4501-b858-8493dc360c58@zenplatz.com
DTSTAMP:20260419T121018Z
DTSTART;TZID=Europe/Stockholm:20260424T170000
DTEND;TZID=Europe/Stockholm:20260424T203000
SUMMARY:Vegetarian Cooking Class
DESCRIPTION:A vegetarian cooking class hosted by the Bhakti Yoga Society 
 at Gröna Villan\, SU Frescati Campus\, featuring a free dinner.\n\nPrice:
  Free\n\nhttps://forms.gle/RjrjHuqxi7DhPtAQ7\n\nhttps://zenplatz.com/vege
 tarian-cooking-class-65ed34
LOCATION:Gröna Villan\, SU Frescati Campus
URL:https://zenplatz.com/vegetarian-cooking-class-65ed34
CATEGORIES:Food
END:VEVENT

END:VCALENDAR