BEGIN:VCALENDAR
VERSION:2.0
PRODID:-//Zenplatz//Events//EN
CALSCALE:GREGORIAN
METHOD:PUBLISH
X-WR-CALNAME:Zenplatz Tulum
X-WR-TIMEZONE:America/Cancun

BEGIN:VEVENT
UID:b2e54cdb-1aa5-4a3e-8ea7-714962f6376a@zenplatz.com
DTSTAMP:20260419T120957Z
DTSTART;TZID=America/Cancun:20260419T080000
DTEND;TZID=America/Cancun:20260419T090000
SUMMARY:The Listening Field
DESCRIPTION:A gentle morning space led by Mario at Shakti Temple in Tulum
 \, focusing on presence and heart-centered meditation.\n\nFacilitator: Ma
 rio\n\nPrice: Donation Based\n\nhttps://zenplatz.com/the-listening-field-
 b2e54c
LOCATION:Shakti Temple
URL:https://zenplatz.com/the-listening-field-b2e54c
CATEGORIES:Meditation
END:VEVENT

BEGIN:VEVENT
UID:43207499-1433-4672-b7a1-5ca8413a0f94@zenplatz.com
DTSTAMP:20260419T120957Z
DTSTART;TZID=America/Cancun:20260419T103000
DTEND;TZID=America/Cancun:20260419T113000
SUMMARY:Yoga Embodiment Flow
DESCRIPTION:A yoga session led by Gabriela at Shakti Temple\, Tulum\, foc
 using on embodiment and flow.\n\nFacilitator: Gabriela\n\nPrice: Donation
  Based\n\nhttps://zenplatz.com/yoga-embodiment-flow-432074
LOCATION:Shakti Temple
URL:https://zenplatz.com/yoga-embodiment-flow-432074
CATEGORIES:Yoga
END:VEVENT

BEGIN:VEVENT
UID:145b1741-836b-463d-b85a-5d4cefadeb60@zenplatz.com
DTSTAMP:20260419T120957Z
DTSTART;TZID=America/Cancun:20260419T130000
DTEND;TZID=America/Cancun:20260419T220000
SUMMARY:Create Your Drum and Heal Your Heart
DESCRIPTION:A gathering to build your drum with the heartbeat of your hea
 rt. This drum allows your essence and intention to be expressed with all 
 the strength and prayer you put into creating this powerful spiritual too
 l.\n\nFacilitator: DJ Lu Fortis\n\nPrice: Donation $2\,500 MXN\n\nhttps:/
 /zenplatz.com/create-your-drum-and-heal-your-heart-145b17
LOCATION:Oasis Maya Coco Beach
URL:https://zenplatz.com/create-your-drum-and-heal-your-heart-145b17
CATEGORIES:Workshop
END:VEVENT

BEGIN:VEVENT
UID:018b0296-0656-4fb9-a37f-11161787e409@zenplatz.com
DTSTAMP:20260419T120957Z
DTSTART;TZID=America/Cancun:20260419T131500
DTEND;TZID=America/Cancun:20260419T114500
SUMMARY:Community Day
DESCRIPTION:A day of wellness offerings including meditation\, yoga\, bea
 ch workout\, pilates\, and ice baths. All activities are by donation.\n\n
 Facilitator: Lula Wellness\n\nPrice: Donation\n\nhttps://lulawellness.as.
 me/communityday\n\nhttps://zenplatz.com/community-day-018b02
LOCATION:La Zebra Hotel
URL:https://zenplatz.com/community-day-018b02
CATEGORIES:Community
END:VEVENT

BEGIN:VEVENT
UID:33f195c4-1c52-40ed-9445-312335642fba@zenplatz.com
DTSTAMP:20260419T120957Z
DTSTART;TZID=America/Cancun:20260419T170000
DTEND;TZID=America/Cancun:20270324T000000
SUMMARY:Family Constellations
DESCRIPTION:A Family Constellations session led by Fernando Fernandez at 
 Ganesha's Lounge\, aimed at connecting with lineage and facilitating deep
  transformation.\n\nFacilitator: Fernando Fernandez\n\nPrice: €1\,995 (20
 % off)\n\nhttps://greentara.ie/healer\n\nhttps://zenplatz.com/family-cons
 tellations-33f195
LOCATION:Ganesha's Lounge
URL:https://zenplatz.com/family-constellations-33f195
CATEGORIES:Constellation
END:VEVENT

BEGIN:VEVENT
UID:9ee7f06d-a4f1-44bc-89c1-76e6f070df65@zenplatz.com
DTSTAMP:20260419T120957Z
DTSTART;TZID=America/Cancun:20260419T173000
DTEND;TZID=America/Cancun:20260419T183000
SUMMARY:Candlelit Yin Yoga
DESCRIPTION:A relaxing yin yoga session focusing on the lower back and hi
 ps\, led by Daniela.\n\nFacilitator: Daniela\n\nPrice: 250 MXN\n\nhttps:/
 /zenplatz.com/candlelit-yin-yoga-9ee7f0
LOCATION:The Space
URL:https://zenplatz.com/candlelit-yin-yoga-9ee7f0
CATEGORIES:Yoga
END:VEVENT

BEGIN:VEVENT
UID:96c081c5-f88d-4920-b651-1488b0c93006@zenplatz.com
DTSTAMP:20260419T120957Z
DTSTART;TZID=America/Cancun:20260419T180000
DTEND;TZID=America/Cancun:20260419T230000
SUMMARY:Kizomba Community Dance Event
DESCRIPTION:A Kizomba workshop led by Susana Ferreira\, followed by a soc
 ial dance featuring DJ Rappa at the Rooftop Hotel Downtown Tulum.\n\nFaci
 litator: Susana Ferreira & DJ Rappa\n\nPrice: $100 MXN\n\nhttps://zenplat
 z.com/kizomba-community-dance-event-96c081
LOCATION:Rooftop Hotel Downtown Tulum
URL:https://zenplatz.com/kizomba-community-dance-event-96c081
CATEGORIES:Dance
END:VEVENT

BEGIN:VEVENT
UID:a471538f-53a0-4e48-a53a-c462fb8c472b@zenplatz.com
DTSTAMP:20260419T120957Z
DTSTART;TZID=America/Cancun:20260419T180000
DTEND;TZID=America/Cancun:20260419T210000
SUMMARY:Kirtan Dao
DESCRIPTION:A Kirtan session led by Vijay Krsna and Jahnava at Ganesha's 
 Lounge\, focusing on traditional Bhakti practices.\n\nFacilitator: Vijay 
 Krsna\n\nhttps://zenplatz.com/kirtan-dao-a47153
LOCATION:Ganesha's Lounge
URL:https://zenplatz.com/kirtan-dao-a47153
CATEGORIES:Kirtan
END:VEVENT

BEGIN:VEVENT
UID:89301271-0d9e-47af-a1eb-e920fb78191e@zenplatz.com
DTSTAMP:20260419T120957Z
DTSTART;TZID=America/Cancun:20260419T180000
DTEND;TZID=America/Cancun:20260419T190000
SUMMARY:Vinyasa Chakra Yoga Session
DESCRIPTION:A Vinyasa Chakra session led by Adrián Tafo\, focusing on mov
 ing through the chakras as a living map\, where each asana becomes a cons
 cious expression that reveals\, cleanses\, and transforms from within.\n\
 nFacilitator: Adrián Tafo\n\nhttps://zenplatz.com/vinyasa-chakra-yoga-ses
 sion-893012
URL:https://zenplatz.com/vinyasa-chakra-yoga-session-893012
CATEGORIES:Yoga
END:VEVENT

BEGIN:VEVENT
UID:c8534c6c-87fb-4b72-bb9e-7daf2a0264ac@zenplatz.com
DTSTAMP:20260419T120957Z
DTSTART;TZID=America/Cancun:20260420T070000
DTEND;TZID=America/Cancun:20260420T083000
SUMMARY:Sunrise Yoga in the Jungle
DESCRIPTION:A yoga session led by Ricardo Castro at Kaab Ha Tulum\, featu
 ring stunning jungle views and a glorious sunrise.\n\nFacilitator: Ricard
 o Castro\n\nPrice: Donation $10 - $15 USD\n\nhttps://zenplatz.com/sunrise
 -yoga-in-the-jungle-c8534c
LOCATION:Kaab Ha Tulum
URL:https://zenplatz.com/sunrise-yoga-in-the-jungle-c8534c
CATEGORIES:Yoga
END:VEVENT

BEGIN:VEVENT
UID:fe53c065-eda2-4153-a878-2813f8ad586d@zenplatz.com
DTSTAMP:20260419T120957Z
DTSTART;TZID=America/Cancun:20260420T180000
DTEND;TZID=America/Cancun:20260420T210000
SUMMARY:Sacred Voice Movement
DESCRIPTION:A vocal toning and chanting experience at the iconic Azulik D
 ome\, featuring a pop feel.\n\nFacilitator: blue lotus\n\nhttps://partifu
 l.com/e/IozbzKx5gyjZQUxqo75N\n\nhttps://zenplatz.com/sacred-voice-movemen
 t-fe53c0
LOCATION:Azulik Dome
URL:https://zenplatz.com/sacred-voice-movement-fe53c0
CATEGORIES:Music
END:VEVENT

BEGIN:VEVENT
UID:ee974e37-3357-4574-a436-08d2e3390c9b@zenplatz.com
DTSTAMP:20260419T120957Z
DTSTART;TZID=America/Cancun:20260420T180000
DTEND;TZID=America/Cancun:20260420T190000
SUMMARY:Ceremony to Honor Our Connection to the Great Spirit
DESCRIPTION:A ceremony led by Taminchi\, Indios Beta\, Pamela Dharani\, a
 nd Montaña Sagrada at YURA in Tulum\, honoring the land and our connectio
 n to the Great Spirit.\n\nFacilitator: Taminchi\, Indios Beta\, Pamela Dh
 arani\, Montaña Sagrada\n\nPrice: $350 MXN\n\nhttps://buy.stripe.com/cNi8
 wP96Y0Ne3SidEM3ks0n\n\nhttps://zenplatz.com/ceremony-to-honor-our-connect
 ion-to-the-great-spirit-ee974e
LOCATION:YURA
URL:https://zenplatz.com/ceremony-to-honor-our-connection-to-the-great-sp
 irit-ee974e
CATEGORIES:Ceremony
END:VEVENT

BEGIN:VEVENT
UID:94fce11b-f2f5-4c00-b557-1aacc4cee5af@zenplatz.com
DTSTAMP:20260419T120957Z
DTSTART;TZID=America/Cancun:20260420T180000
DTEND;TZID=America/Cancun:20260420T210000
SUMMARY:Kundalini Tantric Lightbody Activation
DESCRIPTION:A mixed group session led by two master facilitators\, includ
 ing a pioneer with over 30 years of experience\, at an intimate venue. No
  previous experience is necessary.\n\nFacilitator: 2 Master Facilitators\
 n\nPrice: 444 MXN\n\nhttps://www.eventbrite.com/e/1987009811836?aff=oddtd
 tcreator\n\nhttps://zenplatz.com/kundalini-tantric-lightbody-activation-9
 4fce1
LOCATION:New Earth Temple
URL:https://zenplatz.com/kundalini-tantric-lightbody-activation-94fce1
CATEGORIES:Tantra
END:VEVENT

BEGIN:VEVENT
UID:c93cc90c-3791-467e-9595-330c924f8478@zenplatz.com
DTSTAMP:20260419T120957Z
DTSTART;TZID=America/Cancun:20260420T200000
DTEND;TZID=America/Cancun:20260420T210000
SUMMARY:The Song of the Lotus
DESCRIPTION:An evening session led by Yantra & Lotus Alchemist at Shakti 
 Temple\, Tulum\, focusing on deep listening and presence.\n\nFacilitator:
  Yantra & Lotus Alchemist\n\nPrice: Donation Based\n\nhttps://zenplatz.co
 m/the-song-of-the-lotus-c93cc9
LOCATION:Shakti Temple
URL:https://zenplatz.com/the-song-of-the-lotus-c93cc9
CATEGORIES:Meditation
END:VEVENT

BEGIN:VEVENT
UID:54a7160f-1b93-4033-a1ad-d21d475d79be@zenplatz.com
DTSTAMP:20260419T120957Z
DTSTART;TZID=America/Cancun:20260421T050000
DTEND;TZID=America/Cancun:20260422T050000
SUMMARY:Ancestral Womb Medicine Journey
DESCRIPTION:A full-day immersion to reconnect with your womb\, voice\, an
 d ancestral wisdom in the Tulum jungle.\n\nFacilitator: Aisha Malinalli &
  AWA team\n\nhttps://forms.gle/eyVFaN5FzT32rcko7\n\nhttps://zenplatz.com/
 ancestral-womb-medicine-journey-54a716
LOCATION:Tulum jungle
URL:https://zenplatz.com/ancestral-womb-medicine-journey-54a716
CATEGORIES:Ceremony
END:VEVENT

BEGIN:VEVENT
UID:9751272a-d780-4c79-b5df-cda97f155549@zenplatz.com
DTSTAMP:20260419T120957Z
DTSTART;TZID=America/Cancun:20260421T063000
DTEND;TZID=America/Cancun:20260421T073000
SUMMARY:Breathwork Yoga Session
DESCRIPTION:A breathwork yoga session as part of the sunrise and sunset y
 oga classes\, led by special guest instructors.\n\nFacilitator: Special G
 uest Instructors\n\nPrice: Voluntary donation\, first class free\, $10 - 
 $15 USD for subsequent classes\n\nhttps://zenplatz.com/breathwork-yoga-se
 ssion-975127
LOCATION:Kaab Ha Tulum
URL:https://zenplatz.com/breathwork-yoga-session-975127
CATEGORIES:Yoga
END:VEVENT

BEGIN:VEVENT
UID:c3c4991d-687c-4791-bf98-1cdc2312fc62@zenplatz.com
DTSTAMP:20260419T120957Z
DTSTART;TZID=America/Cancun:20260421T180000
DTEND;TZID=America/Cancun:20260421T190000
SUMMARY:Contact Dance Class
DESCRIPTION:A Contact Dance session at The Space\, focusing on partner co
 nnection and the balance between giving and receiving.\n\nhttps://zenplat
 z.com/contact-dance-class-c3c499
LOCATION:The Space
URL:https://zenplatz.com/contact-dance-class-c3c499
CATEGORIES:Dance
END:VEVENT

BEGIN:VEVENT
UID:18677612-f914-4d41-b398-a2c08de3f8d4@zenplatz.com
DTSTAMP:20260419T120957Z
DTSTART;TZID=America/Cancun:20260421T180000
DTEND;TZID=America/Cancun:20260421T210000
SUMMARY:Power Dynamics Workshop
DESCRIPTION:A workshop exploring the art of power dynamics\, focusing on 
 the psychology\, trust\, and internal edges of dominance and submission.\
 n\nPrice: 1\,000 pesos per couple\n\nhttps://zenplatz.com/power-dynamics-
 workshop-186776
LOCATION:Centro Playa
URL:https://zenplatz.com/power-dynamics-workshop-186776
CATEGORIES:Workshop
END:VEVENT

BEGIN:VEVENT
UID:e18c77cd-454b-41be-9a36-72afa2ff7989@zenplatz.com
DTSTAMP:20260419T120957Z
DTSTART;TZID=America/Cancun:20260421T180000
DTEND;TZID=America/Cancun:20260421T190000
SUMMARY:Salsa & Bachata Sunset
DESCRIPTION:A salsa and bachata dance session featuring live music and a 
 sunset view at Karma Tulum.\n\nFacilitator: Conexión Latina\n\nhttps://ze
 nplatz.com/salsa-bachata-sunset-e18c77
LOCATION:Karma Tulum
URL:https://zenplatz.com/salsa-bachata-sunset-e18c77
CATEGORIES:Dance
END:VEVENT

BEGIN:VEVENT
UID:7fc89ebe-c306-4f57-bbab-3e8b458da177@zenplatz.com
DTSTAMP:20260419T120957Z
DTSTART;TZID=America/Cancun:20260421T190000
DTEND;TZID=America/Cancun:20260421T200000
SUMMARY:Singalong Concert
DESCRIPTION:An intimate evening of music\, connection\, and shared voice 
 led by Mama Earth at New Earth Temple in Aldea Zama\, Tulum.\n\nFacilitat
 or: Mama Earth\n\nPrice: 250 pesos\n\nhttps://zenplatz.com/singalong-conc
 ert-7fc89e
LOCATION:New Earth Temple
URL:https://zenplatz.com/singalong-concert-7fc89e
CATEGORIES:Music
END:VEVENT

BEGIN:VEVENT
UID:cedb6920-af78-44ef-a810-c91a8e77a783@zenplatz.com
DTSTAMP:20260419T120957Z
DTSTART;TZID=America/Cancun:20260421T200000
DTEND;TZID=America/Cancun:20260421T220000
SUMMARY:Espiral Sagrada: Baile Sufi
DESCRIPTION:A Sufi dance event at Amatista Centro Espiritual\, inviting p
 articipants to connect with their inner selves through movement.\n\nPrice
 : Donation\n\nhttps://chat.whatsapp.com/Kqs9gnTJsyq0rjTGKCBlj7\n\nhttps:/
 /zenplatz.com/espiral-sagrada-baile-sufi-cedb69
LOCATION:Amatista Centro Espiritual
URL:https://zenplatz.com/espiral-sagrada-baile-sufi-cedb69
CATEGORIES:Dance
END:VEVENT

BEGIN:VEVENT
UID:baf276fd-7058-4fa8-a938-b06985c26879@zenplatz.com
DTSTAMP:20260419T120957Z
DTSTART;TZID=America/Cancun:20260422T050000
DTEND;TZID=America/Cancun:20260422T060000
SUMMARY:Embodied Tantra Facilitator Training
DESCRIPTION:This hybrid training (in-person & online) is starting with th
 e first online call on April 22nd. This tantra facilitator training is fo
 r women to step into their feminine leadership and learn to facilitate hi
 gh-quality tantra trainings and events to all genders both in person and 
 online.\n\nFacilitator: Arja Hendrikx & Amanda Biccum\n\nhttps://www.thet
 empleofradiance.com/embodied-tantra-facilitator-training-2026\n\nhttps://
 zenplatz.com/embodied-tantra-facilitator-training-baf276
LOCATION:Temple of Radiance
URL:https://zenplatz.com/embodied-tantra-facilitator-training-baf276
CATEGORIES:Workshop
END:VEVENT

BEGIN:VEVENT
UID:f5f6b9a8-e646-4b8d-af19-bae2fe9e2509@zenplatz.com
DTSTAMP:20260419T120957Z
DTSTART;TZID=America/Cancun:20260422T120000
DTEND;TZID=America/Cancun:20260422T203000
SUMMARY:Tulum Pop Up Market
DESCRIPTION:A community market event featuring vintage clothing\, jewelry
 \, and a jam session led by Dante at El Tábano.\n\nFacilitator: Dante\n\n
 Price: by donation\n\nhttps://maps.app.goo.gl/1EjHbWmqP51kySMYA\n\nhttps:
 //zenplatz.com/tulum-pop-up-market-f5f6b9
LOCATION:El Tábano
URL:https://zenplatz.com/tulum-pop-up-market-f5f6b9
CATEGORIES:Market
END:VEVENT

BEGIN:VEVENT
UID:47deb8c9-9cfd-402a-8ddc-4717708d5790@zenplatz.com
DTSTAMP:20260419T120957Z
DTSTART;TZID=America/Cancun:20260422T180000
DTEND;TZID=America/Cancun:20260422T210000
SUMMARY:Conscious Intimacy Games
DESCRIPTION:A session of Conscious Intimacy Games designed to help partic
 ipants feel safe to be their true selves in the presence of others. The e
 vent includes talk and touch-based games inspired by various healing moda
 lities.\n\nPrice: Pay what you want\n\nhttps://www.consciousintimacygames
 .com/conscious-intimacy-games-registration-tulum-april-22\n\nhttps://zenp
 latz.com/conscious-intimacy-games-47deb8
LOCATION:Conscious Intimacy Games
URL:https://zenplatz.com/conscious-intimacy-games-47deb8
CATEGORIES:Workshop
END:VEVENT

BEGIN:VEVENT
UID:1678cf76-3861-4a34-967f-fd04fdacb5df@zenplatz.com
DTSTAMP:20260419T120957Z
DTSTART;TZID=America/Cancun:20260423T100000
DTEND;TZID=America/Cancun:20260423T110000
SUMMARY:Hatha FLOW
DESCRIPTION:A Hatha FLOW yoga class.\n\nhttps://zenplatz.com/hatha-flow-1
 678cf
LOCATION:Best Yoga Shala
URL:https://zenplatz.com/hatha-flow-1678cf
CATEGORIES:Yoga
END:VEVENT

BEGIN:VEVENT
UID:4b413bb3-a52f-46a3-b64c-04d18b6e143e@zenplatz.com
DTSTAMP:20260419T120957Z
DTSTART;TZID=America/Cancun:20260424T180000
DTEND;TZID=America/Cancun:20260424T190000
SUMMARY:Chakra Vinyasa Yoga
DESCRIPTION:A Chakra Vinyasa Yoga class at Best Yoga Shala.\n\nhttps://ze
 nplatz.com/chakra-vinyasa-yoga-4b413b
LOCATION:Best Yoga Shala
URL:https://zenplatz.com/chakra-vinyasa-yoga-4b413b
CATEGORIES:Yoga
END:VEVENT

BEGIN:VEVENT
UID:1585934f-70f9-4595-b47d-81f876f4e468@zenplatz.com
DTSTAMP:20260419T120957Z
DTSTART;TZID=America/Cancun:20260424T183000
DTEND;TZID=America/Cancun:20260424T193000
SUMMARY:Sunday Yoga Session
DESCRIPTION:A Sunday yoga session as part of the sunrise and sunset yoga 
 classes\, led by special guest instructors.\n\nFacilitator: Special Guest
  Instructors\n\nPrice: Voluntary donation\, first class free\, $10 - $15 
 USD for subsequent classes\n\nhttps://zenplatz.com/sunday-yoga-session-15
 8593
LOCATION:Kaab Ha Tulum
URL:https://zenplatz.com/sunday-yoga-session-158593
CATEGORIES:Yoga
END:VEVENT

BEGIN:VEVENT
UID:0ace41fa-f17a-4e1f-b14e-4d1d3dccd6f7@zenplatz.com
DTSTAMP:20260419T120957Z
DTSTART;TZID=America/Cancun:20260424T200000
DTEND;TZID=America/Cancun:20260424T220000
SUMMARY:Espiral Sagrada: Baile Sufi
DESCRIPTION:A Sufi dance event at Amatista Centro Espiritual\, allowing p
 articipants to connect with their inner selves through movement.\n\nPrice
 : Aportación voluntaria\n\nhttps://chat.whatsapp.com/Kqs9gnTJsyq0rjTGKCBl
 j7?mode=gi_c\n\nhttps://zenplatz.com/espiral-sagrada-baile-sufi-0ace41
LOCATION:Amatista Centro Espiritual
URL:https://zenplatz.com/espiral-sagrada-baile-sufi-0ace41
CATEGORIES:Dance
END:VEVENT

BEGIN:VEVENT
UID:fdbfa264-aa1e-409e-85e4-57ed97dbd748@zenplatz.com
DTSTAMP:20260419T120957Z
DTSTART;TZID=America/Cancun:20260424T213000
DTEND;TZID=America/Cancun:20260425T030000
SUMMARY:Soul Ritmo Tribal
DESCRIPTION:An Afro\, Tribal\, Latin House experience blending global bea
 ts\, live percussion\, and conscious rituals.\n\nFacilitator: Mariana & K
 atherine\n\nPrice: $600 MXN\n\nhttps://holistify.mx/es/payment/69d1b0107e
 43670015774cc6\n\nhttps://zenplatz.com/soul-ritmo-tribal-fdbfa2
LOCATION:XKEBAN
URL:https://zenplatz.com/soul-ritmo-tribal-fdbfa2
CATEGORIES:Music
END:VEVENT

BEGIN:VEVENT
UID:232ee63c-5b14-4bc5-9fd5-775b110ec61f@zenplatz.com
DTSTAMP:20260419T120957Z
DTSTART;TZID=America/Cancun:20260425T050000
DTEND;TZID=America/Cancun:20260425T060000
SUMMARY:Cacao Dance with MOSE
DESCRIPTION:A special Cacao Dance journey with MOSE and guest performers 
 at Arena Tulum.\n\nFacilitator: Love Academy\n\nPrice: Code: TULUM111\n\n
 https://buytickets.at/loveacademy/2100291/r/johntran\n\nhttps://zenplatz.
 com/cacao-dance-with-mose-232ee6
LOCATION:Arena Tulum
URL:https://zenplatz.com/cacao-dance-with-mose-232ee6
CATEGORIES:Dance
END:VEVENT

BEGIN:VEVENT
UID:f980cd05-cca7-4e7a-8f61-1e595f66d2ec@zenplatz.com
DTSTAMP:20260419T120957Z
DTSTART;TZID=America/Cancun:20260425T160000
DTEND;TZID=America/Cancun:20260425T170000
SUMMARY:Cadena Humana por Chenzubul
DESCRIPTION:A community event forming a human chain to support Chenzubul.
 \n\nhttps://zenplatz.com/cadena-humana-por-chenzubul-f980cd
URL:https://zenplatz.com/cadena-humana-por-chenzubul-f980cd
CATEGORIES:Community
END:VEVENT

BEGIN:VEVENT
UID:c447457a-f13b-4e37-ad2d-383e67d1d31e@zenplatz.com
DTSTAMP:20260419T120957Z
DTSTART;TZID=America/Cancun:20260425T200000
DTEND;TZID=America/Cancun:20260425T230000
SUMMARY:Time After Time
DESCRIPTION:A music event featuring Valentin Taricco at Delek Tulum.\n\nF
 acilitator: Soundsets by Delek\n\nhttps://forms.gle/aREEp5wWnSDgdSC49\n\n
 https://zenplatz.com/time-after-time-c44745
LOCATION:Delek Tulum
URL:https://zenplatz.com/time-after-time-c44745
CATEGORIES:Music
END:VEVENT

BEGIN:VEVENT
UID:56f82315-a097-4211-9f3c-81f21c804e3b@zenplatz.com
DTSTAMP:20260419T120957Z
DTSTART;TZID=America/Cancun:20260426T000000
DTEND;TZID=America/Cancun:20260426T010000
SUMMARY:Optional Co-ed Ceremony
DESCRIPTION:An optional co-ed ceremony for those who feel called to deepe
 n their experience\, taking place in Tulum.\n\nhttps://zenplatz.com/optio
 nal-co-ed-ceremony-56f823
URL:https://zenplatz.com/optional-co-ed-ceremony-56f823
CATEGORIES:Ceremony
END:VEVENT

BEGIN:VEVENT
UID:6620b9ea-6bb8-48c2-8529-97640114967f@zenplatz.com
DTSTAMP:20260419T120957Z
DTSTART;TZID=America/Cancun:20260426T170000
DTEND;TZID=America/Cancun:20260427T120000
SUMMARY:🌿 Application form ~ April 26\,2026 ***Early bird until April 20
 th***
DESCRIPTION:A special ancestral hikuri ceremony\, welcoming participants 
 to a sacred peyote ceremony through the night\, closing with a traditiona
 l temazcal in the morning.\n\nFacilitator: Abuela Sauli\, Hawima\, and Ma
 rcos\n\nPrice: $200 USD early bird / $260 USD normal price\n\nhttps://for
 ms.gle/rrDzY66PntGSh6Je6\n\nhttps://zenplatz.com/application-form-april-2
 62026-early-bird-until-april-20th-6620b9
LOCATION:casa arkana
URL:https://zenplatz.com/application-form-april-262026-early-bird-until-a
 pril-20th-6620b9
CATEGORIES:Ceremony
END:VEVENT

BEGIN:VEVENT
UID:7b83d5a6-e80c-43f5-8da0-f4e489291440@zenplatz.com
DTSTAMP:20260419T120957Z
DTSTART;TZID=America/Cancun:20260426T190000
DTEND;TZID=America/Cancun:20260426T210000
SUMMARY:Círculo de Hombres
DESCRIPTION:A conscious gathering for men to share experiences\, emotions
 \, challenges\, and learnings in a safe and confidential space at Casa Am
 or.\n\nPrice: $150\n\nhttps://zenplatz.com/circulo-de-hombres-7b83d5
LOCATION:Casa Amor
URL:https://zenplatz.com/circulo-de-hombres-7b83d5
CATEGORIES:Community
END:VEVENT

BEGIN:VEVENT
UID:ceb1041c-76a4-4b56-bf4a-34ba5350da17@zenplatz.com
DTSTAMP:20260419T120957Z
DTSTART;TZID=America/Cancun:20260428T160000
DTEND;TZID=America/Cancun:20260428T173000
SUMMARY:Activation Ceremony
DESCRIPTION:A direct transmission of life force\, offering a space to sof
 ten\, open\, and receive.\n\nFacilitator: Andrew\n\nPrice: $1200 MXN\n\nh
 ttps://web.bewe.co/holistika-tulum/classes/69cee644f54a6b0da66eba35\n\nht
 tps://zenplatz.com/activation-ceremony-ceb104
LOCATION:Holistika
URL:https://zenplatz.com/activation-ceremony-ceb104
CATEGORIES:Ceremony
END:VEVENT

BEGIN:VEVENT
UID:a132e293-76e2-479a-a7f0-5c280f4b60be@zenplatz.com
DTSTAMP:20260419T120957Z
DTSTART;TZID=America/Cancun:20260430T050000
DTEND;TZID=America/Cancun:20260502T050000
SUMMARY:The Multi-Orgasmic Woman 3-Day Workshop
DESCRIPTION:A unique 3-day women’s workshop guided by Marie Schnebelen\, 
 designed to support the harmonization of the heart and cultivate states o
 f love\, joy\, and inner balance.\n\nFacilitator: Marie Schnebelen\n\nhtt
 ps://gamma.app/docs/The-multi-orgasmic-woman-3-days-workshop-April-30-May
 -1-2-2026-in-dwhgr13lp7zqrm8\n\nhttps://zenplatz.com/the-multi-orgasmic-w
 oman-3-day-workshop-a132e2
LOCATION:Cenote near Tulum
URL:https://zenplatz.com/the-multi-orgasmic-woman-3-day-workshop-a132e2
CATEGORIES:Workshop
END:VEVENT

BEGIN:VEVENT
UID:cc8648a2-a75e-4ba4-9f19-92aabd4b2ce5@zenplatz.com
DTSTAMP:20260419T120957Z
DTSTART;TZID=America/Cancun:20260501T000000
DTEND;TZID=America/Cancun:20260501T010000
SUMMARY:Closing Ceremony - Flower Moon in Scorpio
DESCRIPTION:A closing ceremony featuring respected artists from the Rivie
 ra Maya conscious community\, celebrating the Flower Moon in Scorpio at O
 asis Maya Beach.\n\nFacilitator: Mariana\n\nPrice: $280 MXN\n\nhttps://ww
 w.eventbrite.com.mx/o/74237912013\n\nhttps://zenplatz.com/closing-ceremon
 y-flower-moon-in-scorpio-cc8648
LOCATION:Oasis Maya Beach
URL:https://zenplatz.com/closing-ceremony-flower-moon-in-scorpio-cc8648
CATEGORIES:Ceremony
END:VEVENT

BEGIN:VEVENT
UID:38a6a865-86f4-42ae-901e-f662dbaa6393@zenplatz.com
DTSTAMP:20260419T120957Z
DTSTART;TZID=America/Cancun:20260501T203000
DTEND;TZID=America/Cancun:20260502T010000
SUMMARY:Bachata Soul in Tulum
DESCRIPTION:A Bachata class led by China and Gon at The Rooftop by Downto
 wn Hotel\, followed by social dancing.\n\nFacilitator: China y Gon\n\nhtt
 ps://zenplatz.com/bachata-soul-in-tulum-38a6a8
LOCATION:The Rooftop at Downtown Hotel
URL:https://zenplatz.com/bachata-soul-in-tulum-38a6a8
CATEGORIES:Dance
END:VEVENT

BEGIN:VEVENT
UID:15d50a25-ae36-490e-9783-2592592bc77f@zenplatz.com
DTSTAMP:20260419T120957Z
DTSTART;TZID=America/Cancun:20260502T210000
DTEND;TZID=America/Cancun:20260503T070000
SUMMARY:Mystical Sunset 5to Aniversario
DESCRIPTION:The 5th anniversary of Mystical Sunset featuring a lineup of 
 artists at Faunna Rooftop.\n\nPrice: $350 MXN adv\n\nhttps://www.passline
 .com/eventos/mystical-sunset-499841/carls\n\nhttps://zenplatz.com/mystica
 l-sunset-5to-aniversario-15d50a
LOCATION:@faunnarooftop
URL:https://zenplatz.com/mystical-sunset-5to-aniversario-15d50a
CATEGORIES:Music
END:VEVENT

BEGIN:VEVENT
UID:e3a02c02-e590-4e08-baeb-2ee710911cfb@zenplatz.com
DTSTAMP:20260419T120957Z
DTSTART;TZID=America/Cancun:20260509T050000
DTEND;TZID=America/Cancun:20260510T050000
SUMMARY:KAP Kundalini Activation Facilitator Training
DESCRIPTION:A 2-day in-person 12-hour immersion for those called to facil
 itate conscious energy work with integrity and depth. This training is tr
 auma-informed and grounded in nervous system regulation\, ensuring partic
 ipants learn how to hold safe\, ethical\, and responsible spaces for acti
 vation processes.\n\nFacilitator: Astrid\n\nhttps://zenplatz.com/kap-kund
 alini-activation-facilitator-training-e3a02c
LOCATION:The Space Tulum
URL:https://zenplatz.com/kap-kundalini-activation-facilitator-training-e3
 a02c
CATEGORIES:Workshop
END:VEVENT

BEGIN:VEVENT
UID:a11ee7fa-904f-4316-9134-7eec7fa7d2c2@zenplatz.com
DTSTAMP:20260419T120957Z
DTSTART;TZID=America/Cancun:20260516T100000
DTEND;TZID=America/Cancun:20260516T110000
SUMMARY:MEJORES Respiros
DESCRIPTION:A breathing session at Amatista Zona Azul.\n\nPrice: $770\n\n
 https://zenplatz.com/mejores-respiros-a11ee7
LOCATION:Amatista Zona Azul
URL:https://zenplatz.com/mejores-respiros-a11ee7
CATEGORIES:Breathwork
END:VEVENT

BEGIN:VEVENT
UID:988779c3-f89f-440f-a44d-39834263cd99@zenplatz.com
DTSTAMP:20260419T120957Z
DTSTART;TZID=America/Cancun:20260516T120000
DTEND;TZID=America/Cancun:20260516T130000
SUMMARY:Tantric Massage Course
DESCRIPTION:A full-day Tantra Massage Experience designed for individuals
  and couples to reconnect with their body\, open their heart\, and discov
 er the healing power of conscious touch. This sacred and guided space all
 ows exploration of intimacy through presence rather than performance.\n\n
 Facilitator: Susana Aydlett\, Diego Zamora\n\nhttps://zenplatz.com/tantri
 c-massage-course-988779
LOCATION:Ekumal Sanctuary Eco Resort
URL:https://zenplatz.com/tantric-massage-course-988779
CATEGORIES:Tantra
END:VEVENT

END:VCALENDAR